BEGIN:VCALENDAR
VERSION:2.0
PRODID:-//EstAdventure - ECPv6.15.20//NONSGML v1.0//EN
CALSCALE:GREGORIAN
METHOD:PUBLISH
X-ORIGINAL-URL:https://estadventure.com/sr/
X-WR-CALDESC:Events for EstAdventure
REFRESH-INTERVAL;VALUE=DURATION:PT1H
X-Robots-Tag:noindex
X-PUBLISHED-TTL:PT1H
BEGIN:VTIMEZONE
TZID:Europe/Paris
BEGIN:DAYLIGHT
TZOFFSETFROM:+0100
TZOFFSETTO:+0200
TZNAME:CEST
DTSTART:20250330T010000
END:DAYLIGHT
BEGIN:STANDARD
TZOFFSETFROM:+0200
TZOFFSETTO:+0100
TZNAME:CET
DTSTART:20251026T010000
END:STANDARD
BEGIN:DAYLIGHT
TZOFFSETFROM:+0100
TZOFFSETTO:+0200
TZNAME:CEST
DTSTART:20260329T010000
END:DAYLIGHT
BEGIN:STANDARD
TZOFFSETFROM:+0200
TZOFFSETTO:+0100
TZNAME:CET
DTSTART:20261025T010000
END:STANDARD
BEGIN:DAYLIGHT
TZOFFSETFROM:+0100
TZOFFSETTO:+0200
TZNAME:CEST
DTSTART:20270328T010000
END:DAYLIGHT
BEGIN:STANDARD
TZOFFSETFROM:+0200
TZOFFSETTO:+0100
TZNAME:CET
DTSTART:20271031T010000
END:STANDARD
END:VTIMEZONE
BEGIN:VEVENT
DTSTART;VALUE=DATE:20260523
DTEND;VALUE=DATE:20260609
DTSTAMP:20260424T113145
CREATED:20241126T061732Z
LAST-MODIFIED:20251221T142725Z
UID:2848-1779494400-1780963199@estadventure.com
SUMMARY:China 🇨🇳 - Tibet Bike Tour
DESCRIPTION:Lhasa\, Shigatse\, Gyamtso La\, Everest Base Camp\n\n\n   \nDoživite Tibet kroz jedinstvenu biciklističku avanturu do Everest baznog kampa. \n\nDATUM POLASKA: 23.05.2026. – aerodrom „Nikola Tesla“\, Beograd \nDATUM DOLASKA: 08.06.2026. – aerodrom „Nikola Tesla“\, Beograd \nOPIS AVANTURE\n\nAvantura počinje u Lhasi\, glavnom gradu autonomne pokrajine Tibet\, Narodna Republika Kina. Preletećemo najviše vrhove sveta i uživati u spektakularnim pogledima. Nakon aklimatizacije i obilaska istorijskog\, kulturnog i religijskog nasleđa Lhase\, krećemo na biciklističku turu dugu 700 kilometara do Everest baznog kampa na 5.200m.\n \n\nPutovanje nas vodi preko prevoja Gyamtso La (5.220m) i grada Shigatse\, uz veličanstvene poglede na vrhove iznad 8.000 metara. Na kraju ture\, ukazaće nam se severna stena Mt. Everesta. Dnevne distance biciklističke vožnje iznose između 60 i 90 km\, a svako popodne ćemo istraživati kulturne i religijske spomenike naroda Tibeta u mestima gde budemo noćili.\n \n\nOvo je avantura za ljubitelje prirode i istraživanja na biciklu. Tura nije osmišljena za takmičenje ili testiranje fizičkih granica\, već za istraživanje Tibeta\, jednog drugačijeg sveta\, i sticanje nezaboravnih iskustava.\n \nPLAN AVANTURE\n\n\n01. dan: BEOGRAD – PEKING – LHASA. Sastanak putnika na aerodromu „Nikola Tesla“ dva sata pre poletanja. Polazak za Peking\, zatim nastavak putovanja avionom za Lhasu. \n02. dan: LHASA. Dolazak na aerodrom u Lhasi. Transfer do hotela i smeštaj. Obilazak Barkhor pijace i starog dela grada. Ova šetnja po gradu ujedno je i aklimatizacija jer je Lhasa na 3.600m nadmorske visine. Noćenje. \n03. dan: LHASA. Doručak. Nastavak aklimatizacije. Današnja šetnja vodi nas do palate Potala\, nekadašnje zimske rezidencije Dalaj Lame i jednog od najsvetijih simbola Tibeta. Popodne obilazak hrama Jokhang\, koji je u 7. veku osnovao 33. veliki kralj Tibeta. U unutrašnjosti hrama nalazi se statua Bude Šakjamunija iz perioda kada je imao dvanaest godina. Napolju se mogu videti hodočasnici koji se klanjaju ispred hrama\, dok ulica Barkhor\, koja ga okružuje\, pruža autentičan doživljaj tibetanske kulture. Šetnja među hodočasnicima i lokalnim stanovništvom. Noćenje. \n04. dan: LHASA. Doručak. Priprema bicikala i pakovanje ličnih stvari. Kratka test vožnja kako bismo osigurali da je sve spremno za početak ture. U popodnevnim satima poseta manastiru Sera\, poznatom po dinamičnim debatama monaha koje se održavaju između 15 i 17 časova. Takođe\, obilazak tibetanske verske štamparije\, gde se mogu videti tradicionalne metode štampanja svetih tekstova. Unutar manastira nalaze se tri peščane mandale i živopisna slika Bude oslikana na stenama. Noćenje. \n\n  Manastir Sera – Tibet\n05. dan: LHASA – KHANGBALA / 85km. Početak himalajske biciklističke avanture! Nakon doručka\, napuštamo Lhasu i vozimo duž reke Tsangpo sve do podnožja prevoja Khangbala (3.700m). Put je ravan i lagan\, prolazimo pored jezera reke Lhasa i uživamo u pejzažima Tibeta. Dolazak u selo Khangbala i smeštaj u guesthouse. Noćenje. \n06. dan: KHANGBALA – KHANGBALA PASS – YAMDROK LAKE / 80km. Nakon doručka\, započinjemo uspon na prevoj Khangbala (4.900m)\, s kojeg se pruža spektakularan pogled na prostrane doline i prelepo jezero Yamdrok. Uspon traje oko 25 km\, a nakon dostizanja vrha sledi spust i vožnja uz obalu jezera do sela Yamdrotso. Ovaj deo rute zahteva dobru pripremu – potrebno je poneti dovoljno vode\, elektrolita i energetskih grickalica. Smeštaj u guesthouse. Noćenje. \n\n  Detalj sa naše ture\n07. dan: YAMDROTSO – GYANTSE / 95km. Nakon doručka\, nastavljamo vožnju uz spektakularne pejzaže\, prolazeći pored glečera Karola i prevoja Smila (4.335m). Trasa uključuje nekoliko kraćih uspona i spustova\, dok se uz levu stranu puta pruža impozantan pogled na glečer i smaragdnozelenu vodu brane Manla. Poslednji deo rute vodi nas ravnim putem do grada Gyantse\, gde se smeštamo u hotel. Noćenje. \n\n  Detalj tokom vožnje\n08. dan: GYANTSE – SHIGATSE / 90km. Nakon doručka\, krećemo u laganu i opuštenu vožnju prema Shigatse\, bez uspona na prevoje. Ruta prolazi kroz slikovita sela sa bujnom vegetacijom i prostranim poljima\, pružajući priliku za kratke pauze i odmor u prirodi. Po želji\, možemo skrenuti s glavnog puta i posetiti hram Shalu. Dolazak u Shigatse i smeštaj u hotel. Noćenje. \n09. dan: SHIGATSE – MANASTIR PHUNTSOLING / 100km. Nakon doručka\, nastavljamo biciklističku avanturu vožnjom lokalnim putevima kroz autentična tibetanska sela i slikovite vidikovce\, izbegavajući glavni autoput Kina-Nepal. Ruta prolazi dolinom reke Brahmaputra\, gde se smenjuju prostrana polja i tradicionalna naselja. Današnje putovanje završavamo kod manastira Phuntsoling\, poznatog po svojoj dugoj istoriji i prelepim muralima. Smeštaj u manastiru. Noćenje. \n\n  Detalj tokom vožnje\n10. dan: MANASTIR PHUNTSOLING – LHATSE / 65km. Doručak. Nastavljamo vožnju duž reke Brahmaputra\, prolazeći kroz tibetanska sela i upoznajući se sa ljubaznim lokalnim farmerima. Ruta je lagana\, pa imamo priliku da se opustimo i uživamo u prirodi pored reke. Po dolasku u grad Lhatse\, smeštaj u hotelu. Noćenje. \n11. dan: LHATSE – PELBA / 80km. Doručak. Danas nas čeka najteža deonica na ovoj avanturi. Vozimo preko planinskog prevoja Gyatso La (5.248m). Vreme na prevoju je često nestabilno\, ali ako bude lep dan\, sa prevoja će se po prvi put ukazati Mt. Everest. Nakon prevoja\, sledi dug silazak do mesta Pelba. Noćenje u guesthouse. \n12. dan: PELBA – TASHIDZONG / 60km. Doručak. Danas ulazimo u Nacionalni park Mt. Everest. Prelazimo poslednji prevoj\, Gawula Pass (5.200m)\, kako bismo stigli do baznog kampa Mont Everesta. Sa prevoja Gawula pruža se pogled na pet vrhova iznad 8.000 metara: Makalu\, Lhotse\, Everest\, Cho Oyu i Shishapangma. Gawula Pass je najspektakularniji vidikovac na celoj biciklističkoj ruti od Lhase do Everesta BC. Nakon toga sledi silazak i vožnja do sela Tashidzong. Noćenje u guesthouse. \n\n  Planinski prevoj Gawula 5.200m\, a u pozadini Mt. Everest 8.848m\n13. dan: TASHIDZONG – MANASTIR RONGPUK – EVEREST BC / 50km. Doručak. Danas je poslednja etapa i ujedno najuzbudljiviji dan\, jer stižemo u Everest BC (5.200m). Vožnja od Tashidzonga do baznog kampa je relativno blag put\, bez planinskog prevoja. Na tom putu moguće je sresti divlje životinje kao što su tibetanska antilopa i gnu. Na jednom od odmorišta\, u selu Basom\, uživamo u šoljici čaja od putera. Smeštaj u guesthouse manastira Rongpuk. Noćenje. \n\n  Tokom puta sreli smo životinju Gnu\n\n  Tokom puta sreli smo tibetansku antilopu\n14. dan: EVEREST BC – SHIGATSE. Doručak. Umesto povratka biciklom istim putem kojim smo došli do Everest BC\, vraćamo se kombijem ili džipom. Dolazak u Shigatse. Noćenje u hotelu. \n15. dan: SHIGATSE – LHASA. Doručak. Transfer za Lhasu. Pre vožnje do Lhase\, poseta manastiru Tashilunpo\, domu Panchan Lame i najvećem holističkom manastiru na Tibetu. Dolazak u Lhasu. Noćenje u hotelu. \n16. dan: LHASA – PEKING – BEOGRAD. Transfer do aerodroma u Lhasi. Let za Peking\, zatim nastavak putovanja za Beograd. \n17. dan: BEOGRAD. Dolazak u Beograd.\n\nTROŠKOVI AVANTURE\nUkupni troškovi avanture: 3.990 EUR \nOrganizacija avanture obuhvata:\n\nAvio prevoz na relaciji Beograd – Peking – Lhasa – Beograd\nTransferi minibusom aerodrom – hotel – aerodrom u Lhasi\nSmeštaj u hotelu 3* u Lhasi i Shigatse (1/2 sobe\, polupansion)\nSmeštaj u hotelu 3* u Gyantse i Lhatse (1/2 sobe\, polupansion)\nSmeštaj u guesthouse na Tibetu (1/2 sobe\, polupansion)\nObilazak Lhase prema programu\nSpecijalna dozvola za putovanje po Tibetu (Tibet Travel Permit)\nSve ulaznice i takse za nacionalne parkove\, manastire i muzeje na Tibetu\nMinibus za prevoz ljudi na Tibetu sa vozačem CTMA (u slučaju lošeg vremena)\nKamion za prevoz opreme na Tibetu sa vozačem CTMA\nLokalno osiguranje za evakuaciju u slučaju povrede ili visinske bolesti\nUsluge profesionalnog vodiča na trekingu prema programu\nVodič iz Ministarstva na Tibetu\nTroškovi organizacije\n\nOrganizacija avanture ne obuhvata:\n\nViza za Kinu (za one kojima je potrebna)\nMeđunarodno zdravstveno osiguranje\nIndividualni troškovi tokom boravka na Tibetu\nRentanje bicikala i ostale opreme\nDve fotografije za pasoš (3\,5 x 4\,5 cm)\n\nPREPORUČENA OPREMA\n\nTransportna vreća za bicikl (za one koji nose sopstveni bicikl)\nVreća za spavanje\nOdeća za vožnju mountainbike-a (letnja i zimska)\nGore-tex jakna i Gore-tex pantalone\nČarape – termo i obične\nPamučne majice\nKaciga za vožnju\nVunena kapa (ili polar kapa)\nŠešir za zaštitu od sunca\nDukserica od polara\nRukavice (polar)\nPeškir i pribor za higijenu\nNaočare za sunce\nČeona lampa\nTermosi i boce za vodu\nLekovi\, vitamini\, minerali\, proteini itd.\nKrema za sunčanje i krema za usne\nKabanica\n\n\nNapomena: Transportna vreća sa stvarima prevozi se kamionom\, dok se bicikl vozi bez bisaga sa stvarima. Deo stvari može se ostaviti u hotelu u Lhasi.\n \nUSLOVI\n\n\nPrilikom prijavljivanja poslati planinarsku biografiju\, planinarsku karticu sa plaćenom markicom PSS za tekuću godinu i pasoš. Na ovu avanturu mogu da se prijave svi koji su u stanju da u našim brdima izvezu 50-60 km sa 1.000m uspona\, pa da to ponove sledeći dan\, a da treći dan nemaju upalu mišića 🙂\n \nUslovi prijave:\n\nNajkasnije do 90 dana pre polaska na ekspediciju.\n\nUslovi plaćanja:\n\n10% od ukupnog iznosa pri prijavljivanju za ekspediciju\n40% od ukupnog iznosa 60 dana pre polaska na ekspediciju\n50% od ukupnog iznosa 30 dana pre polaska na ekspediciju\n\nU slučaju otkazivanja učešća u ekspediciji od strane člana ekspedicije:\n\nUkoliko je otkaz 60 i više dana pred polazak – vraća se 100% uplaćenog novca.\nUkoliko je otkaz 30-59 dana pred polazak – vraća se 50% uplaćenog novca.\nUkoliko je otkaz 29 dana i manje pred polazak – nema povraćaja uplaćenog novca.\n\nU slučaju otkazivanja ekspedicije od strane organizatora:\n\nU slučaju otkazivanja zbog nedovoljnog broja prijavljenih\, krajnji rok za obaveštenje o otkazu je 45 dana pre datuma polaska. U tom slučaju vraća se sav uplaćeni novac osim depozita za rezervaciju avio karata.\n \n\nKONTAKT\nZa sve dodatne informacije i prijave: info@extremesummitteam.com
URL:https://estadventure.com/sr/event/china-tibet-bike-tour/
CATEGORIES:Avanture Svet
ATTACH;FMTTYPE=image/jpeg:https://estadventure.com/wp-content/uploads/2024/11/tibet-bike-tour.jpg
END:VEVENT
BEGIN:VEVENT
DTSTART;VALUE=DATE:20260611
DTEND;VALUE=DATE:20260615
DTSTAMP:20260424T113145
CREATED:20250410T110201Z
LAST-MODIFIED:20260331T122525Z
UID:2729-1781136000-1781481599@estadventure.com
SUMMARY:Italy 🇮🇹 - Dolomiti
DESCRIPTION:Dolomiti – Via Ferrata\, Trekking i MTB Avantura\n\n\n   \nDolomiti – Raj za ljubitelje planinarenja\, adrenalina i prirode. \n\nDATUM POLASKA: 11.06.2026. – Beograd\, Srbija \nDATUM DOLASKA: 14.06.2026. – Beograd\, Srbija \nOPIS AVANTURE\n\nDolomiti\, planinski masiv u severnim italijanskim Alpima\, poznat je po svojim čuvenim Via Ferrata rutama\, zelenim livadama\, kristalnim vodopadima i panoramama koje oduzimaju dah. Naša baza za ovu avanturu biće Cortina d’Ampezzo\, odakle ćemo svakodnevno kretati na Via Ferrata\, trekinge i MTB avanture. Dolomiti nude idealan spoj adrenalina i prirodne lepote\, što ih čini savršenim mestom za sve ljubitelje planinskih aktivnosti.\n \n\nVia Ferrata – ili „gvozdeni putevi“ – svoje poreklo duguju Prvom svetskom ratu\, a danas su popularne i modernizovane staze širom Dolomita. Pored njih\, uživaćemo i u planinskom biciklizmu i trekking stazama pogodnim za sve nivoe kondicije i iskustva.\n \nPLAN AVANTURE\n\n01. dan: BEOGRAD – CORTINA D’AMPEZZO. Polazak iz Beograda za Cortinu d’Ampezzo. Dolazak u hotel\, smeštaj\, večera i noćenje.   \n02. dan: CORTINA D’AMPEZZO.\n– Grupa A: Uspon na Averau (2.649m) – trek kroz borovu šumu do vrha i planinarskog doma.\n– Grupa B: Via Ferrata – početnici kreću na lakše rute\, dok iskusniji penju ferrate težine 3B-5C. Popodne odmor i druženje u hotelu.   \n03. dan: CORTINA D’AMPEZZO.\n– Grupa A: MTB avantura na stazama Dolomita\, prilagođenim svim nivoima\, od početnika do iskusnih biciklista.\n– Grupa B: Via Ferrata – izazov za sve nivoe veštine\, uz uživanje u adrenalinskim penjačkim rutama. Popodne relaksacija u SPA.   \n04. dan: CORTINA D’AMPEZZO – BEOGRAD.\n– Grupa A: Via Ferrata – svi zajedno penjemo jednu 3B rutu\, sa ciljem ranog završetka i povratka.\n– Grupa B: Trek do vrha Col dei Bos (2.559m) sa Falzarego prevoja\, uz obilazak ostataka bolnice iz Prvog svetskog rata. Polazak za Beograd nakon završetka aktivnosti. Dolazak u Beograd do 23.00h.\n\nTROŠKOVI AVANTURE\nUkupni troškovi avanture: 480 EUR \nOrganizacija obuhvata:\n\nSmeštaj u hotelu 4* (polupansion – doručak i večera) – 3 noćenja\nOprema za Via Ferrata (pojas\, karabineri\, šlem)\nPlaninski bicikl (MTB) i kacige\nSve takse i dozvole\nLicencirani UIAA vodiči za trek\, MTB i Via Ferrata\nFree parking i WiFi\n\nOrganizacija ne obuhvata:\n\nPrivatno zdravstveno osiguranje\nPrevoz Beograd – Cortina d’Ampezzo – Beograd (privatnim automobilima)\n\nPostoji opcija angažovanja kombija (8+1) sa vozačem. Troškove dele svi učesnici. \nPREPORUČENA OPREMA\n\n\nVia Ferrata: Duboke trek cipele\, ranac do 30L\, naočare za sunce\, krema za sunčanje (SPF 50)\, rukavice bez prstiju.\nMTB: Sportska MTB garderoba (MTB Shimano XT i šlem mi obezbeđujemo).\nTrek: Nepromočiva obuća\, trek štapovi\, udobna i topla garderoba.\n\n\nKONTAKT\nZa sve dodatne informacije i prijave\, najkasnije do 15.05.2025. godine\, na: info@extremesummitteam.com
URL:https://estadventure.com/sr/event/italy-dolomiti/
CATEGORIES:Avanture Svet
ATTACH;FMTTYPE=image/jpeg:https://estadventure.com/wp-content/uploads/2024/11/dolomiti.jpg
END:VEVENT
BEGIN:VEVENT
DTSTART;VALUE=DATE:20260612
DTEND;VALUE=DATE:20260621
DTSTAMP:20260424T113145
CREATED:20250410T113137Z
LAST-MODIFIED:20260218T131435Z
UID:2846-1781222400-1781999999@estadventure.com
SUMMARY:Morocco 🇲🇦 - Toubkal (4.167m)
DESCRIPTION:Atlas Planine – Uspon na Toubkal 4.167m i primorje Maroka\n\n\n   \nPlaninski masiv Atlas – domovina Toubkala i netaknute prirode Severne Afrike. \n\nDATUM POLASKA: 12.06.2026. – aerodrom „Nikola Tesla“\, Beograd \nDATUM DOLASKA: 20.06.2026. – aerodrom „Nikola Tesla“\, Beograd \nOPIS AVANTURE\n\nPlaninski masiv Atlas pruža nezaboravno iskustvo za ljubitelje planinarenja i netaknute prirode\, spajajući Maroko\, Alžir i Tunis. Avantura uključuje uspon na najviši vrh Severne Afrike – Toubkal (4.167m)\, obilazak fascinantnih starih gradova Maroka i otkrivanje njihovih kulturnih znamenitosti.\n \n\nNajzanimljivije je selo Imlil sakriveno među krošnjama na hiljade stabala oraha. Zvezdano nebo na Himalajima neponovljivo\, ali u planinama Severne Afrike njegova lepota nije ništa manje vredna. Izlazak sunca je poseban doživljaj. Prvi zraci sunca se rašire kao lepeza nad selom\, osvetljavajući kuće i krošnje orahovog drveta. Doručak na terasi uz mirise lokalne kuhinje koji se mešaju sa svežinom jutra svima donesu mir i spokoj. Govore uglavnom berberski\, arapski ili francuski jezik. Žive u zanimljivoj zajednici\, i veoma su gostoprimljivi.\n \n\nNakon uspona na Veliki Atlas\, a nakon obilaska Marrakecha idemo na Atlantski okean u čuvenu staru luku Essaouira gde nas posle vrhova čekaju plaže 🙂\n \nPLAN AVANTURE\n\n01. dan: BEOGRAD – MARRAKESH – IMLIL. Sastanak na aerodromu „Nikola Tesla“ najkasnije do 4.30h. Polazak za Frankfurt u 6.15h. Dolazak u Marrakesh u 13.25h\, nekadašnju prestonicu i kulturni centar Maroka\, poznat po bazarima i festivalima. Nastavak putovanja za Imlil (oko 1 sat vožnje)\, slikoviti berberski gradić smešten na zapadnoj visiji Atlasa. Smeštaj u gostinskoj kući. Noćenje. \n02. dan: IMLIL – DOM TOUBKAL. Doručak. Pešačenje kroz Mizane dolinu. Kraće zadržavanje u autentičnom selu Aremd. Prolazak pored svetilišta Sidi Shamarouch. Pauza i ručak kod svetilišta. Nastavak pešačenja ka istoku starim planinskim putem kojim mule vekovima prenose tovare. Prolazak pored velikih stenovitih odseka i uspon vijugavom stazom do planinarskog doma Toubkal (3.206m). Smeštaj. Večera. Noćenje. \n03. dan: DOM TOUBKAL – Jebel Toubkal – DOM TOUBKAL. Ustajanje u 04.00h. Doručak. Uspon na Jebel Toubkal (4.167m)\, najviši vrh Severne Afrike (oko 4h hoda). Zadržavanje na vrhu. Povratak do doma Toubkal. Večera. Noćenje. \n04. dan: DOM TOUBKAL – IMLIL. Doručak. Silazak u Imlil. Odmor i proslava uspona na Veliki Atlas. Večera. Noćenje. \n05. dan: IMLIL – MARRAKESH. Doručak. Transfer iz Imlila za Marrakesh. Smeštaj u hotel. Obilazak grada i znamenitosti: Ali ben Youssef Medersa\, Koutoubia i Bahia Palata. Slobodno vreme za šetnju ulicama i bazarima Marrakesha\, gde se mogu videti raznovrsne zanimljivosti\, od dresera zmija do prodavaca berberskih lekova. Večera. Noćenje. \n06. dan: MARRAKESH. Doručak. Dan za obilazak muzeja i kulturnih spomenika Marrakesha uz vodiča. Večera. Noćenje. \n07. dan: MARRAKESH – ESSAOUIRA. Doručak. Transfer do Essaouire\, čuvenog grada na obali Atlantskog okeana. Smeštaj u hotel. Obilazak tvrđave i bazara. Mogućnost za surf\, windsurf i kitesurf\, jer je Essaouira jedna od najboljih destinacija za ove aktivnosti. Večera. Noćenje. \n08. dan: ESSAOUIRA. Doručak. Dan za razgledanje grada i slobodne aktivnosti poput vožnje kvadova\, jahanja kamila i konja. Večera. Noćenje. \n09. dan: ESSAOUIRA – MARRAKESH. Doručak. Slobodan dan za kupovinu suvenira. Polazak iz Essaouire u 19.00h i transfer do aerodroma u Marrakeshu. Let za Frankfurt u 00.25h. \n10. dan: BEOGRAD. Dolazak u Beograd u 12.40h. \n\nTROŠKOVI AVANTURE\nUkupni troškovi avanture: 1.290 EUR \nOrganizacija avanture obuhvata:\n\nAvio prevoz na relaciji Beograd – Marrakesh – Beograd\nSve aerodromske takse\nSvi transferi minibusom aerodrom – hotel – aerodrom u Maroku\nTransfer na relaciji Marrakesh – Essaouira – Marrakesh\nPrevoz minibusom na relaciji Marrakesh – Imlil – Marrakesh\nSmeštaj u hotelu 3* u Marrakeshu (1/2 sobe\, noćenje sa doručkom)\nSmeštaj u hotelu 3* u Essaouiri (1/2 sobe\, noćenje sa doručkom)\nSmeštaj u gostinskoj kući u Imlilu (1/2 i 1/3 sobe\, polupansion)\nSmeštaj u planinarskom domu Toubkal (višekrevetne sobe\, pun pansion)\nTransfer opreme na mulama (Imlil – dom Toubkal – Imlil)\nUIAA vodič na trekingu prema programu\nLokalni vodiči na usponu\nDozvole za treking i takse za Nacionalni park\nTroškovi organizacije putovanja\n\nNapomena: Doplata za hotele 4* iznosi 250 EUR. \nOrganizacija avanture ne obuhvata:\n\nOsiguranje koje pokriva sve do visine od 5.000m\nViza za Maroko\nVoda\, alkoholna\, gazirana i negazirana pića\nIndividualne posete muzeja i ostalih kulturno-istorijskih znamenitosti\n\nPREPORUČENA OPREMA\n\nRanac (oko 40L)\nVreća za spavanje\nPantalone za trekking\nGore-tex jakna\nCipele za planinarenje\nČarape – termo i obične\nPamučne majice\nAktivni veš\nVunena kapa (ili polar kapa)\nŠešir za zaštitu od sunca\nDukserica od polara\nRukavice\nPeškir i pribor za higijenu\nNaočare za sunce\nČeona lampa\nTermos od 1L x 2\nLekovi i vitamini\nToalet papir\, krema za sunčanje (SPF 50)\, krema za usne\nKabanica\nTransportna torba ili ranac do 90L\nTrek štapovi\n\n\nNapomena: Ostalu opremu i garderobu moguće je ostaviti u hotelu u Imlilu.\n \nUSLOVI\n\n\nPrilikom prijavljivanja na mail info@extremesummitteam.com poslati planinarsku biografiju\, planinarsku člansku karticu sa plaćenom markicom PSS za tekuću godinu i pasoš. Na ovu avanturu mogu da se prijave svi koji su u stanju da u našim planinama prepešače 15-20km sa 1000m uspona i koji redovno upražnjavaju neki aerobni sport (trčanje\, bicikl…).\n \nUslovi prijave:\n\nNajkasnije do 90 dana pre polaska na avanturu.\n\nUslovi plaćanja:\n\n10% od ukupnog iznosa pri prijavljivanju za avanturu\n40% od ukupnog iznosa 60 dana pre polaska na avanturu\n50% od ukupnog iznosa 30 dana pre polaska na avanturu\n\nU slučaju otkazivanja učešća na avanturi od strane člana avanture:\n\nUkoliko je otkaz 60 i više dana pred polazak – vraća se 100% uplaćenog novca.\nUkoliko je otkaz 30-59 dana pred polazak – vraća se 50% uplaćenog novca.\nUkoliko je otkaz 29 dana i manje pred polazak – nema povraćaja uplaćenog novca.\n\nU slučaju otkazivanja avanture od strane organizatora:\n\nU slučaju otkazivanja zbog nedovoljnog broja prijavljenih\, krajnji rok za obaveštenje o otkazu je 45 dana pre datuma polaska. U tom slučaju vraća se sav uplaćeni novac osim depozita za rezervaciju avio karata.\n \n\nKONTAKT\nZa sve dodatne informacije i prijave: info@extremesummitteam.com
URL:https://estadventure.com/sr/event/morocco-toubkal-4167m/
CATEGORIES:Avanture Svet
ATTACH;FMTTYPE=image/jpeg:https://estadventure.com/wp-content/uploads/2024/11/toubkal.jpg
END:VEVENT
BEGIN:VEVENT
DTSTART;VALUE=DATE:20260618
DTEND;VALUE=DATE:20260626
DTSTAMP:20260424T113145
CREATED:20250410T114529Z
LAST-MODIFIED:20251217T184132Z
UID:2677-1781740800-1782431999@estadventure.com
SUMMARY:Türkiye 🇹🇷 - (Ararat 5.137m)
DESCRIPTION:Ararat\, najviši vrh Turske\, legendarna planina i simbol istorije\n\n\n   \nPlanina Ararat\, dom legendi i najviši vrh Turske – pogled sa podnožja. \n\nDATUM POLASKA: 18.06.2026. – aerodrom „Nikola Tesla“\, Beograd \nDATUM DOLASKA: 25.06.2026. – aerodrom „Nikola Tesla“\, Beograd \nOPIS AVANTURE\n\nPlanina Ararat prostire se na širini od oko 35 km i poseduje bogatu istoriju penjanja. Prvi zabeleženi uspon datira iz 1829. godine\, kada su Friedrich Parrot\, Khachatur Abovian i još četvoro planinara osvojili vrh. Još od srednjeg veka\, planina je povezivana sa „planinama Ararat“ pomenutim u Bibliji kao mesto na kojem je Nojeva barka pronašla utočište.\n \n\nArarat nije samo prirodni fenomen\, već i simbol velike kulturne i istorijske vrednosti. Predstavljen je kao glavni simbol Jermenije\, gde je smatran svetom planinom. Njegov značaj odražava se u umetnosti\, literaturi i nacionalnim simbolima\, uključujući i grb Jermenije\, gde se planina nalazi uz ilustraciju Nojeve barke.\n \n\nUspon na Ararat nije samo fizički izazov\, već i putovanje kroz istoriju\, kulturu i prirodu\, što ovu avanturu čini jedinstvenom i nezaboravnom. Tokom uspona\, imaćete priliku da istražite fascinantne pejzaže i upoznate se sa lokalnom kulturom\, pružajući vam iskustvo koje ćete pamtiti zauvek.\n \nPLAN AVANTURE\n\n\n01. dan: BEOGRAD – ISTANBUL – DOGUBAYAZIT. Okupljanje na aerodromu „Nikola Tesla“ u 7.00h. Let za Istanbul\, a zatim nastavak leta za Dogubayazit. Dolazak na aerodrom Van u 17.35h. Transfer do hotela u Dogubayazitu uz mogućnost kratkog zaustavljanja kod vodopada Muradiye za fotografisanje. Prijava i smeštaj u hotelu. Večera i sastanak sa lokalnim vodičima. Noćenje. \n\n  Pogled na Ararat iz mesta Dogubayazit\n02. dan: DOGUBAYAZIT – CEVIRME – KAMP 1. Nakon doručka\, pakovanje opreme u minibus (stvari koje nisu potrebne tokom uspona ostaju u hotelu). Transfer do sela Cevirme (2.200m)\, početne tačke uspona. Nosači stavljaju opremu na konje\, a učesnici dobijaju pakete za ručak i kreću pešačenjem do kampa Ararat 1 (3.200m). Uspon traje oko 4 sata\, zavisno od tempa grupe. Dolazak u kamp\, smeštaj u šatorima (dve osobe po šatoru)\, ručak i odmor. Večera i noćenje. \n\n  Na putu do početne tačke našeg uspona\n\n  Početak uspona\n\n  Odmor pred kamp 1\n03. dan: KAMP 1 – KAMP 2 – KAMP1. Nakon doručka\, pešačenje ka kampu Ararat 2 (4.200m) radi aklimatizacije. Uspon traje 4-5 sati. Pauza i povratak u kamp Ararat 1\, gde učesnike očekuje užina i topli napici. Popodne je predviđeno za odmor\, a uveče je organizovana topla večera. Noćenje u kampu Ararat 1. \n\n  Aklimatizacioni uspon\n04. dan: KAMP 1 – KAMP 2. Nakon doručka\, pakovanje prtljaga koji nosači prenose na konjima. Uspon ka kampu Ararat 2 (4.200m) traje 4-5 sati. Dolazak u kamp\, smeštaj u šatorima i odmor uz čaj ili kafu. Popodne je predviđeno za pripremu opreme za završni uspon (provera dereza\, čeonih lampi i druge opreme). Večera se poslužuje ranije kako bi se učesnici odmorili. Noćenje u kampu Ararat 2. \n05. dan: KAMP 2 – VRH ARARATA – KAMP 1. Ustajanje u 2.00h i lagani doručak. Pešačenje ka vrhu traje 5-7 sati. Zadnjih 200-300m može biti potrebno korišćenje dereza\, zavisno od vremenskih uslova. Dolazak na vrh Ararata (5.137m)\, vreme za fotografije i proslavu uspona. Povratak u kamp Ararat 2\, odmor i obrok. Nakon kratkog odmora\, spuštanje do kampa Ararat 1. Večera i noćenje. \n\n  Senka planine Ararat pred zoru\n\n  Poslednji segment pred vrh\n\n  Ararat 5.137m\n06. dan: KAMP 1 – DOGUBAYAZIT. Nakon doručka\, spuštanje do sela Cevirme gde učesnike preuzima minibus. Transfer do hotela u Dogubayazitu. Slobodno vreme za razgledanje i kupovinu suvenira. Noćenje u hotelu. \n\n  Silazak sa planine Ararat\n\n  Obilazak grada Dogubayazit\n\n  Obilazak grada Dogubayazit\n\n  Obilazak grada Dogubayazit\n07. dan: DOGUBAYAZIT – ISTANBUL – BEOGRAD. Nakon doručka\, transfer do aerodroma Van. Let za Istanbul\, a zatim nastavak leta za Beograd. Dolazak na aerodrom „Nikola Tesla“ u 19.30h.\n\nTROŠKOVI AVANTURE\nUkupni troškovi avanture: 1.250 EUR \nOrganizacija avantureobuhvata:\n\nAvio karte sa svim taksama na relacijama Beograd – Istanbul – Van – Istanbul – Beograd\nTransfer od aerodroma Van do Dogubayazita i nazad\nTransfer od Dogubayazita do planine Ararat i nazad\nTransport opreme na planini\nHotelski smeštaj u Dogubayazitu (2 noćenja u dvokrevetnim sobama sa doručkom)\nTri obroka dnevno na planini i bezalkoholna pića\nKuvar i ostalo osoblje tokom uspona\nUsluge lokalnih vodiča\nDušeci i šatori tokom uspona (1 šator za 2 osobe)\nDereze\nLicencirani UIAA vodič\n\nOrganizacija ne obuhvata:\n\nOsiguranje koje pokriva sve do visine 6.000m\nRučak i večera u Dogubayazitu\nLični troškovi\n\nPREPORUČENA OPREMA\n\nRanac (30-40L)\nVreća za spavanje\nPantalone za trekking (keper ili slično)\nGore-tex jakna (ili nešto nepromočivo)\nPlaninarske cipele\nČarape – termo i obične\nMajice pamučne x 5\nAktivni veš (Base layer)\nVunena kapa (ili polar)\nŠešir (za zaštitu od Sunca)\nDukserica od Polara\nRukavice\nPeškir i pribor za higijenu\nNaočare za Sunce\nČeona lampa\nTermos (1L) x 2\nLekovi i vitamini\nToalet papir\, krema za sunčanje SPF 50 i krema za usne\nTrek štapovi\n\nUSLOVI\n\n\nPrilikom prijavljivanja na mail info@extremesummitteam.com poslati planinarsku biografiju\, planinarsku člansku karticu sa plaćenom markicom PSS za tekuću godinu i pasoš. Na ovu avanturu mogu da se prijave svi koji su u stanju da u našim planinama prepešače 15-20km sa 1000m uspona i koji redovno upražnjavaju neki aerobni sport (trčanje\, bicikl…).\n \nUslovi prijave:\n\nNajkasnije do 90 dana pre polaska na avanturu.\n\nUslovi plaćanja:\n\n10% od ukupnog iznosa pri prijavljivanju za avanturu\n40% od ukupnog iznosa 60 dana pre polaska na avanturu\n50% od ukupnog iznosa 30 dana pre polaska na avanturu\n\nU slučaju otkazivanja učešća na avanturi od strane člana avanture:\n\nUkoliko je otkaz 60 i više dana pred polazak – vraća se 100% uplaćenog novca.\nUkoliko je otkaz 30-59 dana pred polazak – vraća se 50% uplaćenog novca.\nUkoliko je otkaz 29 dana i manje pred polazak – nema povraćaja uplaćenog novca.\n\nU slučaju otkazivanja avanture od strane organizatora:\n\nU slučaju otkazivanja zbog nedovoljnog broja prijavljenih\, krajnji rok za obaveštenje o otkazu je 45 dana pre datuma polaska. U tom slučaju vraća se sav uplaćeni novac osim depozita za rezervaciju avio karata.\n \n\nKONTAKT\nZa sve dodatne informacije i prijave možete nas kontaktirati putem email-a: \nEmail: info@extremesummitteam.com
URL:https://estadventure.com/sr/event/turkiye-ararat-5137m/
CATEGORIES:Avanture Svet
ATTACH;FMTTYPE=image/jpeg:https://estadventure.com/wp-content/uploads/2024/11/ararat.jpg
END:VEVENT
BEGIN:VEVENT
DTSTART;VALUE=DATE:20260618
DTEND;VALUE=DATE:20260629
DTSTAMP:20260424T113145
CREATED:20251221T153135Z
LAST-MODIFIED:20251227T110717Z
UID:5374-1781740800-1782691199@estadventure.com
SUMMARY:Gruzija 🇬🇪 - trek
DESCRIPTION:Tura kroz Gruziju: Tbilisi\, Mestia\, Ushguli i Kakheti\n\n\n   \nAutentične planine Kavkaza u Gruziji – prizor koji ostavlja bez daha. \n\nDATUM POLASKA: 18.06.2026. – aerodrom „Nikola Tesla“\, Beograd \nDATUM DOLASKA: 28.06.2026. – aerodrom „Nikola Tesla“\, Beograd \nOPIS AVANTURE
URL:https://estadventure.com/sr/event/gruzija-trek-jun/
CATEGORIES:Avanture Svet
ATTACH;FMTTYPE=image/jpeg:https://estadventure.com/wp-content/uploads/2024/11/georgia-1.jpg
END:VEVENT
END:VCALENDAR